BEGIN:VCALENDAR
VERSION:2.0
PRODID:-//GreenMeadows - ECPv6.13.2.1//NONSGML v1.0//EN
CALSCALE:GREGORIAN
METHOD:PUBLISH
X-WR-CALNAME:GreenMeadows
X-ORIGINAL-URL:https://www.greenmeadowsschool.in
X-WR-CALDESC:Events for GreenMeadows
REFRESH-INTERVAL;VALUE=DURATION:PT1H
X-Robots-Tag:noindex
X-PUBLISHED-TTL:PT1H
BEGIN:VTIMEZONE
TZID:UTC
BEGIN:STANDARD
TZOFFSETFROM:+0000
TZOFFSETTO:+0000
TZNAME:UTC
DTSTART:20260101T000000
END:STANDARD
END:VTIMEZONE
BEGIN:VEVENT
DTSTART;VALUE=DATE:20261203
DTEND;VALUE=DATE:20261204
DTSTAMP:20260424T002049
CREATED:20250610T041555Z
LAST-MODIFIED:20260401T071518Z
UID:227608-1796256000-1796342399@www.greenmeadowsschool.in
SUMMARY:SCHOOL HOLIDAY - St. Xavier’s Feast
DESCRIPTION:
URL:https://www.greenmeadowsschool.in/event/school-holiday-st-xaviers-feast/
END:VEVENT
BEGIN:VEVENT
DTSTART;VALUE=DATE:20261219
DTEND;VALUE=DATE:20261220
DTSTAMP:20260424T002049
CREATED:20250610T041642Z
LAST-MODIFIED:20260401T071617Z
UID:227610-1797638400-1797724799@www.greenmeadowsschool.in
SUMMARY:SCHOOL HOLIDAY - Goa Liberation Day
DESCRIPTION:
URL:https://www.greenmeadowsschool.in/event/school-holiday-goa-liberation-day/
END:VEVENT
BEGIN:VEVENT
DTSTART;TZID=UTC:20261222T080000
DTEND;TZID=UTC:20270101T170000
DTSTAMP:20260424T002049
CREATED:20250610T041808Z
LAST-MODIFIED:20260401T071745Z
UID:227612-1797926400-1798822800@www.greenmeadowsschool.in
SUMMARY:SCHOOL HOLIDAY - Christmas
DESCRIPTION:
URL:https://www.greenmeadowsschool.in/event/school-holiday-christmas/
END:VEVENT
END:VCALENDAR