BEGIN:VCALENDAR
VERSION:2.0
PRODID:-//GreenMeadows - ECPv6.13.2.1//NONSGML v1.0//EN
CALSCALE:GREGORIAN
METHOD:PUBLISH
X-WR-CALNAME:GreenMeadows
X-ORIGINAL-URL:https://www.greenmeadowsschool.in
X-WR-CALDESC:Events for GreenMeadows
REFRESH-INTERVAL;VALUE=DURATION:PT1H
X-Robots-Tag:noindex
X-PUBLISHED-TTL:PT1H
BEGIN:VTIMEZONE
TZID:UTC
BEGIN:STANDARD
TZOFFSETFROM:+0000
TZOFFSETTO:+0000
TZNAME:UTC
DTSTART:20240101T000000
END:STANDARD
END:VTIMEZONE
BEGIN:VEVENT
DTSTART;VALUE=DATE:20240702
DTEND;VALUE=DATE:20240703
DTSTAMP:20260424T213439
CREATED:20240229T043021Z
LAST-MODIFIED:20240229T043021Z
UID:227349-1719878400-1719964799@www.greenmeadowsschool.in
SUMMARY:World UFO Day
DESCRIPTION:
URL:https://www.greenmeadowsschool.in/event/world-ufo-day/
END:VEVENT
BEGIN:VEVENT
DTSTART;VALUE=DATE:20240704
DTEND;VALUE=DATE:20240705
DTSTAMP:20260424T213439
CREATED:20240229T043110Z
LAST-MODIFIED:20240229T043110Z
UID:227351-1720051200-1720137599@www.greenmeadowsschool.in
SUMMARY:Van Mohatsav Week
DESCRIPTION:
URL:https://www.greenmeadowsschool.in/event/van-mohatsav-week/
END:VEVENT
BEGIN:VEVENT
DTSTART;VALUE=DATE:20240705
DTEND;VALUE=DATE:20240706
DTSTAMP:20260424T213439
CREATED:20240229T053241Z
LAST-MODIFIED:20240229T053241Z
UID:227359-1720137600-1720223999@www.greenmeadowsschool.in
SUMMARY:Interhouse Competition
DESCRIPTION:
URL:https://www.greenmeadowsschool.in/event/interhouse-competition/
END:VEVENT
BEGIN:VEVENT
DTSTART;VALUE=DATE:20240712
DTEND;VALUE=DATE:20240713
DTSTAMP:20260424T213439
CREATED:20240229T053332Z
LAST-MODIFIED:20240229T053332Z
UID:227361-1720742400-1720828799@www.greenmeadowsschool.in
SUMMARY:Interhouse Competition - Debate
DESCRIPTION:
URL:https://www.greenmeadowsschool.in/event/interhouse-competition-debate/
END:VEVENT
BEGIN:VEVENT
DTSTART;VALUE=DATE:20240715
DTEND;VALUE=DATE:20240716
DTSTAMP:20260424T213439
CREATED:20240229T053503Z
LAST-MODIFIED:20240229T053503Z
UID:227363-1721001600-1721087999@www.greenmeadowsschool.in
SUMMARY:School Event - French Day Celebration
DESCRIPTION:
URL:https://www.greenmeadowsschool.in/event/school-event-french-day-celebration/
END:VEVENT
BEGIN:VEVENT
DTSTART;VALUE=DATE:20240722
DTEND;VALUE=DATE:20240730
DTSTAMP:20260424T213439
CREATED:20240229T053623Z
LAST-MODIFIED:20240229T053623Z
UID:227365-1721606400-1722297599@www.greenmeadowsschool.in
SUMMARY:Periodic Test 1 - STD III - X
DESCRIPTION:
URL:https://www.greenmeadowsschool.in/event/periodic-test-1-std-iii-x/
END:VEVENT
BEGIN:VEVENT
DTSTART;VALUE=DATE:20240725
DTEND;VALUE=DATE:20240726
DTSTAMP:20260424T213439
CREATED:20240229T053747Z
LAST-MODIFIED:20240229T053747Z
UID:227367-1721865600-1721951999@www.greenmeadowsschool.in
SUMMARY:Parents Showcase - STD I
DESCRIPTION:
URL:https://www.greenmeadowsschool.in/event/parents-showcase-std-i/
END:VEVENT
BEGIN:VEVENT
DTSTART;VALUE=DATE:20240726
DTEND;VALUE=DATE:20240727
DTSTAMP:20260424T213439
CREATED:20240229T053830Z
LAST-MODIFIED:20240229T053830Z
UID:227369-1721952000-1722038399@www.greenmeadowsschool.in
SUMMARY:Parents Showcase - STD II
DESCRIPTION:
URL:https://www.greenmeadowsschool.in/event/parents-showcase-std-ii/
END:VEVENT
BEGIN:VEVENT
DTSTART;VALUE=DATE:20240730
DTEND;VALUE=DATE:20240731
DTSTAMP:20260424T213439
CREATED:20240229T053939Z
LAST-MODIFIED:20240229T053939Z
UID:227371-1722297600-1722383999@www.greenmeadowsschool.in
SUMMARY:Parents Showcase - STD III
DESCRIPTION:
URL:https://www.greenmeadowsschool.in/event/parents-showcase-std-iii/
END:VEVENT
BEGIN:VEVENT
DTSTART;VALUE=DATE:20240731
DTEND;VALUE=DATE:20240801
DTSTAMP:20260424T213439
CREATED:20240229T054051Z
LAST-MODIFIED:20240229T054051Z
UID:227373-1722384000-1722470399@www.greenmeadowsschool.in
SUMMARY:Parents Showcase - STD IV
DESCRIPTION:
URL:https://www.greenmeadowsschool.in/event/parents-showcase-std-iv/
END:VEVENT
END:VCALENDAR