BEGIN:VCALENDAR
VERSION:2.0
PRODID:-//GreenMeadows - ECPv6.13.2.1//NONSGML v1.0//EN
CALSCALE:GREGORIAN
METHOD:PUBLISH
X-WR-CALNAME:GreenMeadows
X-ORIGINAL-URL:https://www.greenmeadowsschool.in
X-WR-CALDESC:Events for GreenMeadows
REFRESH-INTERVAL;VALUE=DURATION:PT1H
X-Robots-Tag:noindex
X-PUBLISHED-TTL:PT1H
BEGIN:VTIMEZONE
TZID:UTC
BEGIN:STANDARD
TZOFFSETFROM:+0000
TZOFFSETTO:+0000
TZNAME:UTC
DTSTART:20240101T000000
END:STANDARD
END:VTIMEZONE
BEGIN:VEVENT
DTSTART;VALUE=DATE:20240401
DTEND;VALUE=DATE:20240402
DTSTAMP:20260425T012950
CREATED:20240229T040628Z
LAST-MODIFIED:20240229T040628Z
UID:227322-1711929600-1712015999@www.greenmeadowsschool.in
SUMMARY:School Holiday - Easter Monday
DESCRIPTION:
URL:https://www.greenmeadowsschool.in/event/school-holiday-easter-monday/
END:VEVENT
BEGIN:VEVENT
DTSTART;VALUE=DATE:20240402
DTEND;VALUE=DATE:20240403
DTSTAMP:20260425T012950
CREATED:20240229T040817Z
LAST-MODIFIED:20240229T040817Z
UID:227324-1712016000-1712102399@www.greenmeadowsschool.in
SUMMARY:World Autism Awareness Day
DESCRIPTION:
URL:https://www.greenmeadowsschool.in/event/world-autism-awareness-day/
END:VEVENT
BEGIN:VEVENT
DTSTART;VALUE=DATE:20240411
DTEND;VALUE=DATE:20240412
DTSTAMP:20260425T012950
CREATED:20240229T041111Z
LAST-MODIFIED:20240229T041111Z
UID:227329-1712793600-1712879999@www.greenmeadowsschool.in
SUMMARY:School Holiday - Id-Ul-Fitar
DESCRIPTION:
URL:https://www.greenmeadowsschool.in/event/school-holiday-id-ul-fitar/
END:VEVENT
BEGIN:VEVENT
DTSTART;VALUE=DATE:20240422
DTEND;VALUE=DATE:20240605
DTSTAMP:20260425T012950
CREATED:20240229T041241Z
LAST-MODIFIED:20240229T041241Z
UID:227331-1713744000-1717545599@www.greenmeadowsschool.in
SUMMARY:School Holiday - Summer Break
DESCRIPTION:
URL:https://www.greenmeadowsschool.in/event/school-holiday-summer-break/
END:VEVENT
END:VCALENDAR