BEGIN:VCALENDAR
VERSION:2.0
PRODID:-//GreenMeadows - ECPv6.13.2.1//NONSGML v1.0//EN
CALSCALE:GREGORIAN
METHOD:PUBLISH
X-ORIGINAL-URL:https://www.greenmeadowsschool.in
X-WR-CALDESC:Events for GreenMeadows
REFRESH-INTERVAL;VALUE=DURATION:PT1H
X-Robots-Tag:noindex
X-PUBLISHED-TTL:PT1H
BEGIN:VTIMEZONE
TZID:UTC
BEGIN:STANDARD
TZOFFSETFROM:+0000
TZOFFSETTO:+0000
TZNAME:UTC
DTSTART:20260101T000000
END:STANDARD
END:VTIMEZONE
BEGIN:VEVENT
DTSTART;VALUE=DATE:20260914
DTEND;VALUE=DATE:20260919
DTSTAMP:20260423T210532
CREATED:20250610T040505Z
LAST-MODIFIED:20260401T070427Z
UID:227593-1789344000-1789775999@www.greenmeadowsschool.in
SUMMARY:SCHOOL HOLIDAY - Ganesh Chaturti
DESCRIPTION:
URL:https://www.greenmeadowsschool.in/event/ganesh-chaturti/
END:VEVENT
END:VCALENDAR