BEGIN:VCALENDAR
VERSION:2.0
PRODID:-//GreenMeadows - ECPv6.13.2.1//NONSGML v1.0//EN
CALSCALE:GREGORIAN
METHOD:PUBLISH
X-WR-CALNAME:GreenMeadows
X-ORIGINAL-URL:https://www.greenmeadowsschool.in
X-WR-CALDESC:Events for GreenMeadows
REFRESH-INTERVAL;VALUE=DURATION:PT1H
X-Robots-Tag:noindex
X-PUBLISHED-TTL:PT1H
BEGIN:VTIMEZONE
TZID:UTC
BEGIN:STANDARD
TZOFFSETFROM:+0000
TZOFFSETTO:+0000
TZNAME:UTC
DTSTART:20240101T000000
END:STANDARD
END:VTIMEZONE
BEGIN:VEVENT
DTSTART;VALUE=DATE:20240902
DTEND;VALUE=DATE:20240903
DTSTAMP:20260424T201255
CREATED:20240306T040131Z
LAST-MODIFIED:20240306T040131Z
UID:227385-1725235200-1725321599@www.greenmeadowsschool.in
SUMMARY:National Nutrition Day
DESCRIPTION:
URL:https://www.greenmeadowsschool.in/event/national-nutrition-day/
END:VEVENT
END:VCALENDAR